BEGIN:VCALENDAR
VERSION:2.0
PRODID:-//Red Global Platform - ECPv6.15.20//NONSGML v1.0//EN
CALSCALE:GREGORIAN
METHOD:PUBLISH
X-WR-CALNAME:Red Global Platform
X-ORIGINAL-URL:https://redglobalplatform.eu
X-WR-CALDESC:Events for Red Global Platform
REFRESH-INTERVAL;VALUE=DURATION:PT1H
X-Robots-Tag:noindex
X-PUBLISHED-TTL:PT1H
BEGIN:VTIMEZONE
TZID:UTC
BEGIN:STANDARD
TZOFFSETFROM:+0000
TZOFFSETTO:+0000
TZNAME:UTC
DTSTART:20250101T000000
END:STANDARD
END:VTIMEZONE
BEGIN:VEVENT
DTSTART;TZID=UTC:20260706T000000
DTEND;TZID=UTC:20260710T000000
DTSTAMP:20260426T014422
CREATED:20260308T205616Z
LAST-MODIFIED:20260413T155428Z
UID:17110-1783296000-1783641600@redglobalplatform.eu
SUMMARY:RUG Summer School - Environmental Justice
DESCRIPTION:
URL:https://redglobalplatform.eu/event/rug-summer-school-environmental-justice/
ATTACH;FMTTYPE=image/jpeg:https://redglobalplatform.eu/wp-content/uploads/2026/04/PHOTO-1religion-equity-and-environmental-justice-social-media-visual-1.jpg
END:VEVENT
END:VCALENDAR