BEGIN:VCALENDAR
VERSION:2.0
PRODID:-//Red Global Platform - ECPv6.15.20//NONSGML v1.0//EN
CALSCALE:GREGORIAN
METHOD:PUBLISH
X-WR-CALNAME:Red Global Platform
X-ORIGINAL-URL:https://redglobalplatform.eu
X-WR-CALDESC:Events for Red Global Platform
REFRESH-INTERVAL;VALUE=DURATION:PT1H
X-Robots-Tag:noindex
X-PUBLISHED-TTL:PT1H
BEGIN:VTIMEZONE
TZID:UTC
BEGIN:STANDARD
TZOFFSETFROM:+0000
TZOFFSETTO:+0000
TZNAME:UTC
DTSTART:20250101T000000
END:STANDARD
END:VTIMEZONE
BEGIN:VTIMEZONE
TZID:Europe/Lisbon
BEGIN:DAYLIGHT
TZOFFSETFROM:+0000
TZOFFSETTO:+0100
TZNAME:WEST
DTSTART:20240331T010000
END:DAYLIGHT
BEGIN:STANDARD
TZOFFSETFROM:+0100
TZOFFSETTO:+0000
TZNAME:WET
DTSTART:20241027T010000
END:STANDARD
BEGIN:DAYLIGHT
TZOFFSETFROM:+0000
TZOFFSETTO:+0100
TZNAME:WEST
DTSTART:20250330T010000
END:DAYLIGHT
BEGIN:STANDARD
TZOFFSETFROM:+0100
TZOFFSETTO:+0000
TZNAME:WET
DTSTART:20251026T010000
END:STANDARD
BEGIN:DAYLIGHT
TZOFFSETFROM:+0000
TZOFFSETTO:+0100
TZNAME:WEST
DTSTART:20260329T010000
END:DAYLIGHT
BEGIN:STANDARD
TZOFFSETFROM:+0100
TZOFFSETTO:+0000
TZNAME:WET
DTSTART:20261025T010000
END:STANDARD
END:VTIMEZONE
BEGIN:VEVENT
DTSTART;VALUE=DATE:20260504
DTEND;VALUE=DATE:20260623
DTSTAMP:20260426T025558
CREATED:20260322T210559Z
LAST-MODIFIED:20260412T100346Z
UID:17114-1777852800-1782172799@redglobalplatform.eu
SUMMARY:Things that Matter" Summer School at Groningen University
DESCRIPTION:
URL:https://redglobalplatform.eu/event/things-that-matter-summer-school-at-groningen-university/
ATTACH;FMTTYPE=image/jpeg:https://redglobalplatform.eu/wp-content/uploads/2026/03/PHOTO-2Summer-School-in-Digital-Humanities.jpg
END:VEVENT
BEGIN:VEVENT
DTSTART;VALUE=DATE:20260501
DTEND;VALUE=DATE:20260502
DTSTAMP:20260426T025558
CREATED:20260411T211555Z
LAST-MODIFIED:20260411T211946Z
UID:17117-1777593600-1777679999@redglobalplatform.eu
SUMMARY:Call for Application - Religious Diversity in a Globalised World Joint Master in the Netherlands
DESCRIPTION:
URL:https://redglobalplatform.eu/event/call-for-application-religious-diversity-in-a-globalised-world-joint-master-in-the-netherlands/
ATTACH;FMTTYPE=image/png:https://redglobalplatform.eu/wp-content/uploads/2026/04/PHOTO-3-Campaign-ReD-Global-.png
END:VEVENT
BEGIN:VEVENT
DTSTART;TZID=Europe/Lisbon:20251117T090000
DTEND;TZID=Europe/Lisbon:20251119T200000
DTSTAMP:20260426T025558
CREATED:20251114T131905Z
LAST-MODIFIED:20251115T185316Z
UID:16902-1763370000-1763582400@redglobalplatform.eu
SUMMARY:Interdisciplinary Think Tank on Religious Diversity and Globalisation
DESCRIPTION:About The Event\n🇬🇧 1st ReD Global (EMJM) International Conference — “Interdisciplinary Think Tank on Religious Diversity and Globalisation” \nWill take place at the Faculty of Arts and Humanities of the University of Coimbra – Amph. III (entrance floor) from 17 to 19 November 2025 \nIn today’s complex global landscape\, understanding religious diversity is more crucial than ever. The conference offers an interdisciplinary space for reflection on how diversity serves as a conceptual framework for recognising cultural\, contextual\, and existential belonging\, fostering dialogue and the acknowledgment of otherness. \nOrganised within the scope of the Erasmus Mundus Joint Master’s ReD Global Project\, this pioneering initiative explores religious identities and traditions in relation to globalisation processes. \n								 \n\n							Streaming on the CECH YouTube channel:\n					 \n\n						www.youtube.com/@centrodeestudosclassicoseh172/streams 					 \n					\n				Visit Now\n							\n					INFORMATION				 \n\n	Date & Time:\n			November 17\, 2025\n	 @\n09:00\nWET\n	 –\n	November 19\, 2025\n	 @\n20:00\nWET \n\n	Website:\n	https://www.uc.pt/cech/redglobal-conference/ \n\n	Organizers\n\n	CECH – University of Coimbra\, Portugal\n\n	The ReD Global Erasmus Mundus Joint Master´s (EMJM)\n					VANUE				 \n\n	Faculty of Arts and Humanities – University of Coimbra\n\nAmph.III Faculdade de Letras da Universidade de Coimbra\n		\n		Coimbra\,\n	Coimbra\n	3004530\n	Portugal\n\n\n	+ Google Map \n\n					\n						\n	 \n\n	View Venue Website
URL:https://redglobalplatform.eu/event/interdisciplinary-think-tank-on-religious-diversity-and-globalisation/
LOCATION:Faculty of Arts and Humanities – University of Coimbra\, Amph.III Faculdade de Letras da Universidade de Coimbra\, Coimbra\, Coimbra\, 3004530\, Portugal
ATTACH;FMTTYPE=image/png:https://redglobalplatform.eu/wp-content/uploads/2025/11/2025-11-1719_redglobal_cartaz-2-scaled.png
END:VEVENT
END:VCALENDAR